BEGIN:VCALENDAR
VERSION:2.0
PRODID:spatie/icalendar-generator
DESCRIPTION:Events from Autauga County Master Gardeners
X-WR-CALDESC:Events from Autauga County Master Gardeners
REFRESH-INTERVAL;VALUE=DURATION:PT1440M
X-PUBLISHED-TTL:PT1440M
BEGIN:VTIMEZONE
TZID:Etc/GMT+0
BEGIN:STANDARD
DTSTART:20250906T120000Z
TZOFFSETFROM:+0000
TZOFFSETTO:+0000
END:STANDARD
END:VTIMEZONE
BEGIN:VTIMEZONE
TZID:UTC
BEGIN:STANDARD
DTSTART:20250727T202002Z
TZOFFSETFROM:+0000
TZOFFSETTO:+0000
END:STANDARD
END:VTIMEZONE
BEGIN:VEVENT
UID:132-63
DTSTAMP:20260423T202002Z
SUMMARY:Sustainable Landscape Design
LOCATION:Montgomery Cultural Arts Center 1018 Madison Avenue  Montgomery AL
  36104
ORGANIZER;CN=John Carrick:MAILTO:johnny@happy2bee.com
DTSTART;TZID=Etc/GMT+0:20260603T120000
DTEND;TZID=Etc/GMT+0:20260603T130000
X-ALT-DESC;FMTTYPE=TEXT/HTML:Sustainable Landscape Design Amanda Borden\, A
 dvanced Master Gardener
CATEGORIES:Montgomery Lunch and Learn
URL;VALUE=URI:https://autaugamastergardeners.org/mc-events/sustainable-land
 scape-design/
METHOD:PUBLISH
END:VEVENT
END:VCALENDAR