BEGIN:VCALENDAR
VERSION:2.0
PRODID:spatie/icalendar-generator
DESCRIPTION:Events from Autauga County Master Gardeners
X-WR-CALDESC:Events from Autauga County Master Gardeners
REFRESH-INTERVAL;VALUE=DURATION:PT1440M
X-PUBLISHED-TTL:PT1440M
BEGIN:VTIMEZONE
TZID:Etc/GMT+0
BEGIN:STANDARD
DTSTART:20251108T120000Z
TZOFFSETFROM:+0000
TZOFFSETTO:+0000
END:STANDARD
END:VTIMEZONE
BEGIN:VTIMEZONE
TZID:UTC
BEGIN:STANDARD
DTSTART:20250727T215538Z
TZOFFSETFROM:+0000
TZOFFSETTO:+0000
END:STANDARD
END:VTIMEZONE
BEGIN:VEVENT
UID:134-65
DTSTAMP:20260423T215538Z
SUMMARY:Native Pollinators &amp;amp\; Plants “Their Intriguing Relationship
 ”
LOCATION:Montgomery Cultural Arts Center 1018 Madison Avenue  Montgomery AL
  36104
ORGANIZER;CN=John Carrick:MAILTO:johnny@happy2bee.com
DTSTART;TZID=Etc/GMT+0:20260805T120000
DTEND;TZID=Etc/GMT+0:20260805T130000
X-ALT-DESC;FMTTYPE=TEXT/HTML:Native Pollinators &amp;amp\; Plants “Their Intr
 iguing Relationship” Janice Jackson\, Master Gardener
CATEGORIES:Montgomery Lunch and Learn
URL;VALUE=URI:https://autaugamastergardeners.org/mc-events/native-pollinato
 rs-plants-their-intriguing-relationship/
METHOD:PUBLISH
END:VEVENT
END:VCALENDAR