BEGIN:VCALENDAR
VERSION:2.0
PRODID:spatie/icalendar-generator
DESCRIPTION:Events from Autauga County Master Gardeners
X-WR-CALDESC:Events from Autauga County Master Gardeners
REFRESH-INTERVAL;VALUE=DURATION:PT1440M
X-PUBLISHED-TTL:PT1440M
BEGIN:VTIMEZONE
TZID:Etc/GMT+0
BEGIN:STANDARD
DTSTART:20250912T120000Z
TZOFFSETFROM:+0000
TZOFFSETTO:+0000
END:STANDARD
END:VTIMEZONE
BEGIN:VTIMEZONE
TZID:UTC
BEGIN:STANDARD
DTSTART:20250727T204518Z
TZOFFSETFROM:+0000
TZOFFSETTO:+0000
END:STANDARD
END:VTIMEZONE
BEGIN:VEVENT
UID:143-74
DTSTAMP:20260423T204518Z
SUMMARY:Add Hostas to Your Garden
LOCATION:First Presbyterian Church 100 West Bridge Street  Wetumpka AL 3609
 2
ORGANIZER;CN=John Carrick:MAILTO:johnny@happy2bee.com
DTSTART;TZID=Etc/GMT+0:20260609T120000
DTEND;TZID=Etc/GMT+0:20260609T130000
X-ALT-DESC;FMTTYPE=TEXT/HTML:Add Hostas to Your Garden Bionca Lindsey\, Adv
 anced Master Gardener
CATEGORIES:Elmore Lunch and Learn
URL;VALUE=URI:https://autaugamastergardeners.org/mc-events/add-hostas-to-yo
 ur-garden/
METHOD:PUBLISH
END:VEVENT
END:VCALENDAR