BEGIN:VCALENDAR
VERSION:2.0
PRODID:spatie/icalendar-generator
DESCRIPTION:Events from Autauga County Master Gardeners
X-WR-CALDESC:Events from Autauga County Master Gardeners
REFRESH-INTERVAL;VALUE=DURATION:PT1440M
X-PUBLISHED-TTL:PT1440M
BEGIN:VTIMEZONE
TZID:Etc/GMT+0
BEGIN:STANDARD
DTSTART:20251114T120000Z
TZOFFSETFROM:+0000
TZOFFSETTO:+0000
END:STANDARD
END:VTIMEZONE
BEGIN:VTIMEZONE
TZID:UTC
BEGIN:STANDARD
DTSTART:20250727T202008Z
TZOFFSETFROM:+0000
TZOFFSETTO:+0000
END:STANDARD
END:VTIMEZONE
BEGIN:VEVENT
UID:145-76
DTSTAMP:20260423T202008Z
SUMMARY:Growing and Cooking with Herbs
LOCATION:First Presbyterian Church 100 West Bridge Street  Wetumpka AL 3609
 2
ORGANIZER;CN=John Carrick:MAILTO:johnny@happy2bee.com
DTSTART;TZID=Etc/GMT+0:20260811T120000
DTEND;TZID=Etc/GMT+0:20260811T130000
X-ALT-DESC;FMTTYPE=TEXT/HTML:Growing and Cooking with Herbs Janell Diggs\, 
 Advanced Master Gardener
CATEGORIES:Elmore Lunch and Learn
URL;VALUE=URI:https://autaugamastergardeners.org/mc-events/growing-and-cook
 ing-with-herbs/
METHOD:PUBLISH
END:VEVENT
END:VCALENDAR