BEGIN:VCALENDAR
VERSION:2.0
PRODID:spatie/icalendar-generator
DESCRIPTION:Events from Autauga County Master Gardeners
X-WR-CALDESC:Events from Autauga County Master Gardeners
REFRESH-INTERVAL;VALUE=DURATION:PT1440M
X-PUBLISHED-TTL:PT1440M
BEGIN:VTIMEZONE
TZID:Etc/GMT+0
BEGIN:STANDARD
DTSTART:20250823T120000Z
TZOFFSETFROM:+0000
TZOFFSETTO:+0000
END:STANDARD
END:VTIMEZONE
BEGIN:VTIMEZONE
TZID:UTC
BEGIN:STANDARD
DTSTART:20250727T200343Z
TZOFFSETFROM:+0000
TZOFFSETTO:+0000
END:STANDARD
END:VTIMEZONE
BEGIN:VEVENT
UID:120-51
DTSTAMP:20260423T200343Z
SUMMARY:Statewide Pollinator Census ~ Help us Count
LOCATION:Trinity Prattville Church 610 Fairview Ave.  Prattville AL 36066
ORGANIZER;CN=John Carrick:MAILTO:johnny@happy2bee.com
DTSTART;TZID=Etc/GMT+0:20260520T120000
DTEND;TZID=Etc/GMT+0:20260520T130000
X-ALT-DESC;FMTTYPE=TEXT/HTML:Statewide Pollinator Census ~ Help us Count Be
 thany O’Rear\, Horticulturist\, ACES
CATEGORIES:Autauga Lunch and Learn
URL;VALUE=URI:https://autaugamastergardeners.org/mc-events/statewide-pollin
 ator-census-help-us-count/
METHOD:PUBLISH
END:VEVENT
END:VCALENDAR