BEGIN:VCALENDAR
VERSION:2.0
PRODID:spatie/icalendar-generator
DESCRIPTION:Events from Autauga County Master Gardeners
X-WR-CALDESC:Events from Autauga County Master Gardeners
REFRESH-INTERVAL;VALUE=DURATION:PT1440M
X-PUBLISHED-TTL:PT1440M
BEGIN:VTIMEZONE
TZID:Etc/GMT+0
BEGIN:STANDARD
DTSTART:20251122T120000Z
TZOFFSETFROM:+0000
TZOFFSETTO:+0000
END:STANDARD
END:VTIMEZONE
BEGIN:VTIMEZONE
TZID:UTC
BEGIN:STANDARD
DTSTART:20250727T181929Z
TZOFFSETFROM:+0000
TZOFFSETTO:+0000
END:STANDARD
END:VTIMEZONE
BEGIN:VEVENT
UID:123-54
DTSTAMP:20260423T181929Z
SUMMARY:Planting &amp;amp\; Growing a Smoothie Bar
LOCATION:Trinity Prattville Church 610 Fairview Ave.  Prattville AL 36066
ORGANIZER;CN=John Carrick:MAILTO:johnny@happy2bee.com
DTSTART;TZID=Etc/GMT+0:20260819T120000
DTEND;TZID=Etc/GMT+0:20260819T130000
X-ALT-DESC;FMTTYPE=TEXT/HTML:Planting &amp;amp\; Growing a Smoothie Bar Mallory
  Kelley\, Horticulturist\, ACES &amp;amp\; Deb Kelso\, MG
CATEGORIES:Autauga Lunch and Learn
URL;VALUE=URI:https://autaugamastergardeners.org/mc-events/planting-growing
 -a-smoothie-bar/
METHOD:PUBLISH
END:VEVENT
END:VCALENDAR