BEGIN:VCALENDAR
VERSION:2.0
PRODID:spatie/icalendar-generator
DESCRIPTION:Events from Autauga County Master Gardeners
X-WR-CALDESC:Events from Autauga County Master Gardeners
REFRESH-INTERVAL;VALUE=DURATION:PT1440M
X-PUBLISHED-TTL:PT1440M
BEGIN:VTIMEZONE
TZID:Etc/GMT+0
BEGIN:STANDARD
DTSTART:20251206T120000Z
TZOFFSETFROM:+0000
TZOFFSETTO:+0000
END:STANDARD
END:VTIMEZONE
BEGIN:VTIMEZONE
TZID:UTC
BEGIN:STANDARD
DTSTART:20250727T181508Z
TZOFFSETFROM:+0000
TZOFFSETTO:+0000
END:STANDARD
END:VTIMEZONE
BEGIN:VEVENT
UID:135-66
DTSTAMP:20260423T181508Z
SUMMARY:Floral Arranging Techniques &amp;amp\; Tricks
LOCATION:Montgomery Cultural Arts Center 1018 Madison Avenue  Montgomery AL
  36104
ORGANIZER;CN=John Carrick:MAILTO:johnny@happy2bee.com
DTSTART;TZID=Etc/GMT+0:20260902T120000
DTEND;TZID=Etc/GMT+0:20260902T130000
X-ALT-DESC;FMTTYPE=TEXT/HTML:Floral Arranging Techniques &amp;amp\; Tricks Mall
 ory Kelley\, Horticulturist\, ACES
CATEGORIES:Montgomery Lunch and Learn
URL;VALUE=URI:https://autaugamastergardeners.org/mc-events/floral-arranging
 -techniques-tricks/
METHOD:PUBLISH
END:VEVENT
END:VCALENDAR