BEGIN:VCALENDAR
VERSION:2.0
PRODID:spatie/icalendar-generator
DESCRIPTION:Events from Autauga County Master Gardeners
X-WR-CALDESC:Events from Autauga County Master Gardeners
REFRESH-INTERVAL;VALUE=DURATION:PT1440M
X-PUBLISHED-TTL:PT1440M
BEGIN:VTIMEZONE
TZID:Etc/GMT+0
BEGIN:STANDARD
DTSTART:20250718T120000Z
TZOFFSETFROM:+0000
TZOFFSETTO:+0000
END:STANDARD
END:VTIMEZONE
BEGIN:VTIMEZONE
TZID:UTC
BEGIN:STANDARD
DTSTART:20250727T164113Z
TZOFFSETFROM:+0000
TZOFFSETTO:+0000
END:STANDARD
END:VTIMEZONE
BEGIN:VEVENT
UID:141-72
DTSTAMP:20260423T164113Z
SUMMARY:Bees of Alabama
LOCATION:First Presbyterian Church 100 West Bridge Street  Wetumpka AL 3609
 2
ORGANIZER;CN=John Carrick:MAILTO:johnny@happy2bee.com
DTSTART;TZID=Etc/GMT+0:20260414T120000
DTEND;TZID=Etc/GMT+0:20260414T130000
X-ALT-DESC;FMTTYPE=TEXT/HTML:Bees of Alabama Dr. Selina Bruckner\, Bee Spec
 ialist\, ACES
CATEGORIES:Elmore Lunch and Learn
URL;VALUE=URI:https://autaugamastergardeners.org/mc-events/bees-of-alabama/
METHOD:PUBLISH
END:VEVENT
END:VCALENDAR