BEGIN:VCALENDAR
VERSION:2.0
PRODID:spatie/icalendar-generator
DESCRIPTION:Events from Autauga County Master Gardeners
X-WR-CALDESC:Events from Autauga County Master Gardeners
REFRESH-INTERVAL;VALUE=DURATION:PT1440M
X-PUBLISHED-TTL:PT1440M
BEGIN:VTIMEZONE
TZID:Etc/GMT+0
BEGIN:STANDARD
DTSTART:20251017T120000Z
TZOFFSETFROM:+0000
TZOFFSETTO:+0000
END:STANDARD
END:VTIMEZONE
BEGIN:VTIMEZONE
TZID:UTC
BEGIN:STANDARD
DTSTART:20250727T183419Z
TZOFFSETFROM:+0000
TZOFFSETTO:+0000
END:STANDARD
END:VTIMEZONE
BEGIN:VEVENT
UID:144-75
DTSTAMP:20260423T183419Z
SUMMARY:Teas\, Tinctures and Salves
LOCATION:First Presbyterian Church 100 West Bridge Street  Wetumpka AL 3609
 2
ORGANIZER;CN=John Carrick:MAILTO:johnny@happy2bee.com
DTSTART;TZID=Etc/GMT+0:20260714T120000
DTEND;TZID=Etc/GMT+0:20260714T130000
X-ALT-DESC;FMTTYPE=TEXT/HTML:Teas\, Tinctures and Salves Debbie Kelso\, Cen
 tral Alabama Master Gardener
CATEGORIES:Elmore Lunch and Learn
URL;VALUE=URI:https://autaugamastergardeners.org/mc-events/teas-tinctures-a
 nd-salves/
METHOD:PUBLISH
END:VEVENT
END:VCALENDAR