BEGIN:VCALENDAR
VERSION:2.0
PRODID:spatie/icalendar-generator
DESCRIPTION:Events from Autauga County Master Gardeners
X-WR-CALDESC:Events from Autauga County Master Gardeners
REFRESH-INTERVAL;VALUE=DURATION:PT1440M
X-PUBLISHED-TTL:PT1440M
BEGIN:VTIMEZONE
TZID:Etc/GMT+0
BEGIN:STANDARD
DTSTART:20250816T100000Z
TZOFFSETFROM:+0000
TZOFFSETTO:+0000
END:STANDARD
END:VTIMEZONE
BEGIN:VTIMEZONE
TZID:UTC
BEGIN:STANDARD
DTSTART:20250727T182347Z
TZOFFSETFROM:+0000
TZOFFSETTO:+0000
END:STANDARD
END:VTIMEZONE
BEGIN:VEVENT
UID:76-41
DTSTAMP:20260423T182347Z
SUMMARY:ACMGA Monthly Meeting
LOCATION:
ORGANIZER;CN=John Carrick:MAILTO:johnny@happy2bee.com
RRULE:FREQ=MONTHLY;BYDAY=2WE;UNTIL=20290214T000000Z
DTSTART;TZID=Etc/GMT+0:20260513T100000
DTEND;TZID=Etc/GMT+0:20260513T120000
X-ALT-DESC;FMTTYPE=TEXT/HTML:ACMGA Monthly Meeting. 10:00a.m. - 12:00p.m Se
 cond Wednesday of the month
CATEGORIES:Autauga Lunch and Learn
URL;VALUE=URI:https://autaugamastergardeners.org/mc-events/acmga-monthly-me
 eting-3/?mc_id=76
METHOD:PUBLISH
END:VEVENT
END:VCALENDAR